BEGIN:VCALENDAR
VERSION:2.0
PRODID:-//Geli&#039;s Sunshine Project - ECPv6.15.20//NONSGML v1.0//EN
CALSCALE:GREGORIAN
METHOD:PUBLISH
X-ORIGINAL-URL:https://gelissunshineproject.org
X-WR-CALDESC:Events for Geli&#039;s Sunshine Project
REFRESH-INTERVAL;VALUE=DURATION:PT1H
X-Robots-Tag:noindex
X-PUBLISHED-TTL:PT1H
BEGIN:VTIMEZONE
TZID:UTC
BEGIN:STANDARD
TZOFFSETFROM:+0000
TZOFFSETTO:+0000
TZNAME:UTC
DTSTART:20210101T000000
END:STANDARD
END:VTIMEZONE
BEGIN:VEVENT
DTSTART;VALUE=DATE:20221123
DTEND;VALUE=DATE:20221127
DTSTAMP:20260425T162349
CREATED:20221014T084650Z
LAST-MODIFIED:20250401T031445Z
UID:6414-1669161600-1669507199@gelissunshineproject.org
SUMMARY:Geli’s Sunshine Project - Official Launch & Fundraiser Event
DESCRIPTION:Error: Contact form not found. \n  \n 
URL:https://gelissunshineproject.org/event/live-testimonials/
LOCATION:Envato\, 121 King Street\, Melbourne\, Victoria\, 3000\, Australia
CATEGORIES:Donations
ATTACH;FMTTYPE=image/jpeg:https://gelissunshineproject.org/wp-content/uploads/2020/05/72EC79B8-CB73-4B8D-8B58-20B5DA674307.jpeg
ORGANIZER;CN="Nicdark":MAILTO:email@gmail.com
END:VEVENT
END:VCALENDAR