BEGIN:VCALENDAR
VERSION:2.0
PRODID:-//Geli&#039;s Sunshine Project - ECPv6.15.20//NONSGML v1.0//EN
CALSCALE:GREGORIAN
METHOD:PUBLISH
X-WR-CALNAME:Geli&#039;s Sunshine Project
X-ORIGINAL-URL:https://gelissunshineproject.org
X-WR-CALDESC:Events for Geli&#039;s Sunshine Project
REFRESH-INTERVAL;VALUE=DURATION:PT1H
X-Robots-Tag:noindex
X-PUBLISHED-TTL:PT1H
BEGIN:VTIMEZONE
TZID:UTC
BEGIN:STANDARD
TZOFFSETFROM:+0000
TZOFFSETTO:+0000
TZNAME:UTC
DTSTART:20210101T000000
END:STANDARD
END:VTIMEZONE
BEGIN:VTIMEZONE
TZID:UTC
BEGIN:STANDARD
TZOFFSETFROM:+0000
TZOFFSETTO:+0000
TZNAME:UTC
DTSTART:20210101T000000
END:STANDARD
END:VTIMEZONE
BEGIN:VEVENT
DTSTART;VALUE=DATE:20230201
DTEND;VALUE=DATE:20230202
DTSTAMP:20260425T125026
CREATED:20221116T060528Z
LAST-MODIFIED:20221116T060528Z
UID:5421-1675209600-1675295999@gelissunshineproject.org
SUMMARY:2023 Events Coming Soon
DESCRIPTION:Geli’s Sunshine Project will be posting our 2023 events soon… \n  \n  \n 
URL:https://gelissunshineproject.org/event/test-1/
ATTACH;FMTTYPE=image/jpeg:https://gelissunshineproject.org/wp-content/uploads/2022/11/2023-event-1-scaled-1.jpg
END:VEVENT
BEGIN:VEVENT
DTSTART;TZID=UTC:20221217T090000
DTEND;TZID=UTC:20221217T130000
DTSTAMP:20260425T125026
CREATED:20200529T091400Z
LAST-MODIFIED:20250401T031349Z
UID:6412-1671267600-1671282000@gelissunshineproject.org
SUMMARY:Geli’s Sunshine Project Toy Drive
DESCRIPTION:Error: Contact form not found. \nWe will be collecting unwrapped toys to help children during this holiday season.
URL:https://gelissunshineproject.org/event/funds-research/
LOCATION:Envato\, 121 King Street\, Melbourne\, Victoria\, 3000\, Australia
CATEGORIES:Donation - Toy Drive
ATTACH;FMTTYPE=image/jpeg:https://gelissunshineproject.org/wp-content/uploads/2020/05/0ADD45B6-C6D4-45CC-8C81-A84D0966C20C-768x512-1.jpeg
ORGANIZER;CN="Nicdark":MAILTO:email@gmail.com
END:VEVENT
BEGIN:VEVENT
DTSTART;TZID=UTC:20221209T100000
DTEND;TZID=UTC:20221209T100000
DTSTAMP:20260425T125026
CREATED:20200529T091446Z
LAST-MODIFIED:20250401T031407Z
UID:6413-1670580000-1670580000@gelissunshineproject.org
SUMMARY:Angelica & Isabella’s One Year Anniversary
DESCRIPTION:Error: Contact form not found.
URL:https://gelissunshineproject.org/event/presentation/
CATEGORIES:Celebration of Life
ATTACH;FMTTYPE=image/jpeg:https://gelissunshineproject.org/wp-content/uploads/2020/05/EDFB14B4-69FD-48ED-A31B-E889CAE1C0C7-768x1152-1.jpeg
END:VEVENT
BEGIN:VEVENT
DTSTART;VALUE=DATE:20221123
DTEND;VALUE=DATE:20221127
DTSTAMP:20260425T125026
CREATED:20221014T084650Z
LAST-MODIFIED:20250401T031445Z
UID:6414-1669161600-1669507199@gelissunshineproject.org
SUMMARY:Geli’s Sunshine Project - Official Launch & Fundraiser Event
DESCRIPTION:Error: Contact form not found. \n  \n 
URL:https://gelissunshineproject.org/event/live-testimonials/
LOCATION:Envato\, 121 King Street\, Melbourne\, Victoria\, 3000\, Australia
CATEGORIES:Donations
ATTACH;FMTTYPE=image/jpeg:https://gelissunshineproject.org/wp-content/uploads/2020/05/72EC79B8-CB73-4B8D-8B58-20B5DA674307.jpeg
ORGANIZER;CN="Nicdark":MAILTO:email@gmail.com
END:VEVENT
END:VCALENDAR